BEGIN:VCALENDAR
VERSION:2.0
PRODID:-//hacksw/handcal//NONSGML v1.0//EN
BEGIN:VEVENT
UID:ea74e43421e5e4316cb6b301f7db38dc
DTSTAMP:20260420T164721Z

DTSTART:20190420T230000
DTEND:20190420T230000
SUMMARY:Πασχαλινό bazaar - Δίκτυο Αλληλεγγύης ΗΛΙΟΥ-πόλις
DESCRIPTION:Φίλοι και φίλες,

Το ΔΙΚΤΥΟ ΑΛΛΗΛΕΓΓΥΗΣ ΗΛΙΟΥ-πόλις ,όπως κάθε χρόνο, έτσι και φέτος, διοργανώνει Πασχαλινό Bazaar, 
το Σάββατο 20 & Κυριακή 21 Απριλίου 2019, Ηρώς Κωνσταντοπούλου & Ηρακλείτου 1, Ηλιούπολη
Ωρες λειτουργίας 11:00 έως  20:00 

Αγοράζουμε δώρα,κοσμήματα,φυσικά καλλυντικά ,σπιτικές μαρμελάδες και φυσικά λαμπάδες και στηρίζουμε άνεργους συμπολίτες μας.

Σας περιμένουμε
LOCATION:
END:VEVENT

END:VCALENDAR
