BEGIN:VCALENDAR
VERSION:2.0
PRODID:-//hacksw/handcal//NONSGML v1.0//EN
BEGIN:VEVENT
UID:37ca2963250197b4b67e64fa36c1c92e
DTSTAMP:20260420T202449Z

DTSTART:20190630T193000
DTEND:20190701T130000
SUMMARY:BIGBANG INTERNATIONAL SHORT FILM FESTIVAL (ΠΑΝΟΡΑΜΑ ΙΡΑΝΙΚΩΝ ΤΑΙΝΙΩΝ ΜΙΚΡΟΥ ΜΗΚΟΥΣ) ΟΙ ΒΡΑΒΕΥΜΕΝΕΣ ΤΑΙΝΙΕΣ ΤΟΥ ΦΕΣΤΙΒΑΛ
DESCRIPTION:
LOCATION:
END:VEVENT

END:VCALENDAR
