BEGIN:VCALENDAR
VERSION:2.0
PRODID:-//hacksw/handcal//NONSGML v1.0//EN
BEGIN:VEVENT
UID:478a60e45dd1d25b9f6611130f89d10f
DTSTAMP:20260420T173830Z

DTSTART:20190331T200000
DTEND:20190331T200000
SUMMARY:Προβολή ταινία ΤΗΣ ΠΑΤΡΙΔΑΣ ΜΟΥ Η ΣΗΜΑΙΑ… 
DESCRIPTION:Η ΠΟΡΕΙΑ ΤΗΣ ΕΛΛΑΔΑΣ ΣΤΟΝ 20ό ΚΑΙ ΣΤΙΣ ΑΡΧΕΣ ΤΟΥ 21ου ΑΙΩΝΑ

Η ΜΝΗΜΗ, ΟΙ ΑΝΘΡΩΠΟΙ, ΟΙ ΣΧΕΣΕΙΣ, Η ΔΗΜΙΟΥΡΓΙΑ


ΚΥΡΙΑΚΗ  31/03/2019 

ΤΗΣ ΠΑΤΡΙΔΑΣ ΜΟΥ Η ΣΗΜΑΙΑ…
του Στέλιου Χαραλαμπόπουλου (ΕΛΛΑΔΑ, 2016, έγχρωμη, 109΄)

Θα ακολουθήσει συζήτηση με εισηγητές τους Στέλιο Χαραλαμπόπουλο (σκηνοθέτη της ταινίας), Τασούλα Βερβενιώτη (ιστορικό) και Γιώργο Μπράμο (συγγραφέα, κριτικό κινηματογράφου).
LOCATION:
END:VEVENT

END:VCALENDAR
