BEGIN:VCALENDAR
VERSION:2.0
PRODID:-//hacksw/handcal//NONSGML v1.0//EN
BEGIN:VEVENT
UID:6e50acfe949a742041da5c398887eb8d
DTSTAMP:20260420T164957Z

DTSTART:20190317T183000
DTEND:20190317T183000
SUMMARY:"Κάτω τα χέρια απ΄τη Βενεζουέλα" - Εκδήλωση ενημέρωσης & αλληλεγγύης
DESCRIPTION: Μετά από πρωτοβουλία συναγωνιστών για την δημιουργία επιτροπής ειρήνης του ΠΑΚΣ στα νότια προάστια καθώς και για την ενημέρωση-αλληλεγγύη στη Βενεζουέλα που αντιστέκεται ενάντια στο αμερικανοκίνητο πραξικόπημα, θα πραγματοποιήσουμε την εκδήλωση "Κάτω τα χέρια απ΄τη Βενεζουέλα - Ίδρυση επιτροπής νοτίων προαστίων του ΠΑΚΣ", την Κυριακή 17/3, στις 18:30, στο Δημοτικό Αναψυκτήριο Ηλιούπολης (Ύδρας & Μνησικλέους).
Θα θέλαμε να σας προσκαλέσουμε να παρακολουθήσετε την εκδήλωση και εφόσον το επιθυμείτε να συμμετέχετε στην δημιουργία της αντιπολεμικής επιτροπής νοτίων προαστίων του ΠΑΚΣ.

Α' Μέρος: Εκδήλωση-συζήτηση "Κάτω τα χέρια από την Βενεζουέλα"
Συντονιστής: Καραβέλος Νίκος, δικηγόρος & συγγραφέας
Χαιρετισμός: από μέρους Πρεσβείας της Βενεζουέλας
Χαιρετισμός: Ελληνικής Επιτροπής Αλληλεγγύης με τη Βενεζουέλα - Τodos somos Venezuela
Ομιλία: Καλτσώνης Δημήτρης, Αν. Καθηγητής Θεωρίας Κράτους & Δικαίου - Η Βενεζουέλα σε κρίσιμο σταυροδρόμι -Venezuela at a critical crossroad
Β' Μέρος: Ίδρυση τοπικής επιτροπής ειρήνης του ΠΑΚΣ
Συντονιστής: Τριβιζάκης Γιώργος

Το Συντονιστικό του ΠΑΚΣ
LOCATION:
END:VEVENT

END:VCALENDAR
