BEGIN:VCALENDAR
VERSION:2.0
PRODID:-//hacksw/handcal//NONSGML v1.0//EN
BEGIN:VEVENT
UID:8bb94985ebe03ae120d465aed79d86db
DTSTAMP:20260420T174014Z

DTSTART:20190317T200000
DTEND:20190317T200000
SUMMARY:Προβολή ταινία AMERIKA SQUARE 
DESCRIPTION: Κινηματογραφική Λέσχη  Ηλιούπολης σας προσκαλεί στην εκδήλωσή της
ΕΝΑΣ ΑΝΘΡΩΠΙΝΟΣ ΙΣΤΟΣ ΑΠΟ ΔΙΑΔΡΟΜΕΣ ΠΟΥ ΤΕΜΝΟΝΤΑΙ
ΜΕ ΦΟΝΤΟ ΤΗΝ ΠΟΛΥΠΟΛΙΤΙΣΜΙΚΗ ΠΛΑΤΕΙΑ ΑΜΕΡΙΚΗΣ
ΚΥΡΙΑΚΗ  17/03/2019 

AMERIKA SQUARE 
του Γιάννη Σακαρίδη (ΕΛΛΑΔΑ/ΒΡΕΤΑΝΙΑ/ΓΕΡΜΑΝΙΑ, 2016, έγχρωμη, 86΄)

Θα ακολουθήσει συζήτηση με εισηγητές τους Γιάννη Σακαρίδη (σκηνοθέτη της ταινίας), Μάκη Παπαδημητρίου (πρωταγωνιστή της ταινίας), Νίκο Μυλωνά, Γιώργο Ποντίκη και Δημήτρη Κιούση (Ηλιουπολίτες ηθοποιούς της ταινίας).
Βραβείο της Διεθνούς Ομοσπονδίας Κριτικών Κινηματογράφου (FIPRESCI), Ειδικό Βραβείο της Επιτροπής Νεότητας Φοιτητών Πανεπιστημίων Θεσσαλονίκης και Ειδική Μνεία στον ηθοποιό Βασίλη Κουκαλάνι στο 57o Φεστιβάλ Κινηματογράφου Θεσσαλονίκης
Βραβείο Μοντάζ στον Γιάννη Σακαρίδη (Βραβεία «Ίρις» της Ελληνικής Ακαδημίας Κινηματογράφου, 2017)


ΣΤΟ ΜΟΥΣΕΙΟ ΕΘΝΙΚΗΣ ΑΝΤΙΣΤΑΣΗΣ
(Μαρ. Αντύπα 134 και Σοφ. Βενιζέλου 100, Ηλιούπολη,
Τηλ.: 2109941199, 2109914732, 6945405825, E-mail: info@klh.gr,
Ιστοσελίδα: www.klh.gr)


LOCATION:
END:VEVENT

END:VCALENDAR
