BEGIN:VCALENDAR
VERSION:2.0
PRODID:-//hacksw/handcal//NONSGML v1.0//EN
BEGIN:VEVENT
UID:5b14bcb16109c2693f83c6230cc0d95e
DTSTAMP:20260420T173829Z

DTSTART:20190303T200000
DTEND:20190303T200000
SUMMARY:Προβολή ται ΕΝΑ ΔΕΝΤΡΟ ΘΥΜΑΤΑΙ… του Κώστα Φόλλα ΚΥΡΙΑ
DESCRIPTION:Η Κινηματογραφική Λέσχη  Ηλιούπολης σας προσκαλεί στην εκδήλωσή της

Η ΟΛΟΚΛΗΡΩΤΙΚΗ ΚΑΤΑΣΤΡΟΦΗ ΤΟΥ ΧΩΡΙΟΥ ΛΙΝΤΙΤΣΕ ΣΤΗΝ ΤΣΕΧΙΑ ΑΠΟ ΤΟΥΣ ΝΑΖΙ 

(10 ΙΟΥΝΙΟΥ 1942)




ΚΥΡΙΑΚΗ  03/03/2019 (8μμ)
ΕΝΑ ΔΕΝΤΡΟ ΘΥΜΑΤΑΙ…
του Κώστα Φόλλα (ΕΛΛΑΔΑ, 2018, έγχρωμη, 88΄)

Θα ακολουθήσει συζήτηση με εισηγητές τους Κώστα Φόλλα (σκηνοθέτη της ταινίας), Διονυσία Κοπανά και Χάνα Kατζουρακισοβά (συντελεστές της ταινίας), Λουκά Δημάκα (δημοσιογράφο, Αντιπρόεδρο Πολιτισμικού Συλλόγου Διστόμου) και Κώστα Μακρή (ιστορικό).
Ειδικό Βραβείο της Επιτροπής Νεότητας Φοιτητών Πανεπιστημίων Θεσσαλονίκης στο 20ό Φεστιβάλ Ντοκιμαντέρ Θεσσαλονίκης








ΣΤΟ ΜΟΥΣΕΙΟ ΕΘΝΙΚΗΣ ΑΝΤΙΣΤΑΣΗΣ

(Μαρ. Αντύπα 134 και Σοφ. Βενιζέλου 100, Ηλιούπολη,

Τηλ.: 2109941199, 2109914732, 6945405825, E-mail: info@klh.gr,

Ιστοσελίδα: www.klh.gr)



https://www.youtube.com/watch?v=GH6gnKIz6wY
LOCATION:
END:VEVENT

END:VCALENDAR
