BEGIN:VCALENDAR
VERSION:2.0
PRODID:-//hacksw/handcal//NONSGML v1.0//EN
BEGIN:VEVENT
UID:5e168d9c2ab748ecfde7f864c79c0755
DTSTAMP:20260420T174012Z

DTSTART:20190224T200000
DTEND:20190224T200000
SUMMARY:Προβολη ταινίας ΟΙ ΠΑΡΤΙΖΑΝΟΙ ΤΩΝ ΑΘΗΝΩΝ
DESCRIPTION:Η Κινηματογραφική Λέσχη  Ηλιούπολης σας προσκαλεί στην εκδήλωσή της

Η ΕΑΜΙΚΗ ΑΝΤΙΣΤΑΣΗ ΤΗΝ ΠΕΡΙΟΔΟ ΤΗΣ ΚΑΤΟΧΗΣ ΣΤΗΝ ΑΘΗΝΑ


ΚΥΡΙΑΚΗ  24/02/2019 (8 μμ)

ΟΙ ΠΑΡΤΙΖΑΝΟΙ ΤΩΝ ΑΘΗΝΩΝ
των Ξενοφώντα Βαρδαρού και Γιάννη Ξύδα (ΕΛΛΑΔΑ, 2018, έγχρωμη, 72΄)

Θα ακολουθήσει συζήτηση με εισηγητές τους Ξενοφώντα Βαρδαρό και Γιάννη Ξύδα (σκηνοθέτες της ταινίας) και Μενέλαο Χαραλαμπίδη (Διδάκτορα Ιστορίας του Εθνικού και Καποδιστριακού Πανεπιστημίου Αθηνών). 




ΣΤΟ ΜΟΥΣΕΙΟ ΕΘΝΙΚΗΣ ΑΝΤΙΣΤΑΣΗΣ

(Μαρ. Αντύπα 134 και Σοφ. Βενιζέλου 100, Ηλιούπολη,

Τηλ.: 2109941199, 2109914732, 6945405825, E-mail: info@klh.gr,

Ιστοσελίδα: www.klh.gr)

LOCATION:
END:VEVENT

END:VCALENDAR
