BEGIN:VCALENDAR
VERSION:2.0
PRODID:-//hacksw/handcal//NONSGML v1.0//EN
BEGIN:VEVENT
UID:693f638127ebb9484b9e1da91f2c6dc4
DTSTAMP:20260421T004443Z

DTSTART:20190216T000000
DTEND:20190217T000000
SUMMARY:ΚΙΝΗΜΑΤΟΓΡΑΦΙΚΗ ΛΕΣΧΗ ΗΛΙΟΥΠΟΛΗΣ - 30 ΧΡΟΝΙΑ ΔΗΜΙΟΥΡΓΙΚΗΣ ΠΑΡΟΥΣΙΑΣ - ΔΙΗΜΕΡΟΣ ΕΟΡΤΑΣΜΟΣ
DESCRIPTION:ΔΙΗΜΕΡΟΣ ΕΟΡΤΑΣΜΟΣ ΤΩΝ 30 ΧΡΟΝΩΝ ΤΗΣ ΚΛΗ (ΣΥΝΗΜΜΕΝΑ: 1. ΑΝΑΛΥΤΙΚΟ ΠΡΟΓΡΑΜΜΑ, 2. ΑΦΙΣΑ)
•	ΣΑΒΒΑΤΟ 16/2/2019,  12:00 ΤΟ ΜΕΣΗΜΕΡΙ,  ΣΤΟ ΕΚΘΕΣΙΑΚΟ ΚΕΝΤΡΟ ΗΛΙΟΥΠΟΛΗΣ (Λεωφ. Ειρήνης 14-16)
ΕΓΚΑΙΝΙΑ ΤΗΣ ΕΚΘΕΣΗΣ ΑΡΧΕΙΑΚΟΥ ΥΛΙΚΟΥ ΑΠΟ ΤΗΝ ΤΡΙΑΝΤΑΧΡΟΝΗ ΔΡΑΣΤΗΡΙΟΤΗΤΑ ΤΗΣ ΚΙΝΗΜΑΤΟΓΡΑΦΙΚΗΣ ΛΕΣΧΗΣ ΗΛΙΟΥΠΟΛΗΣ
•	ΣΑΒΒΑΤΟ 16/2/2019,  7:30 μ.μ.,  ΣΤΟ ΜΟΥΣΕΙΟ ΕΘΝΙΚΗΣ ΑΝΤΙΣΤΑΣΗΣ (Μαρίνου Αντύπα 134 και Λεωφ. Σοφ. Βενιζέλου 100, Ηλιούπολη)  
  ΠΡΟΒΟΛΗ ΒΩΒΩΝ ΠΕΙΡΑΜΑΤΙΚΩΝ ΤΑΙΝΙΩΝ ΑΠΟ ΤΗΝ ΠΕΡΙΟΔΟ ΤΟΥ ΝΤΑΝΤΑΪΣΜΟΥ ΜΕ ΤΗ ΣΥΝΟΔΕΙΑ ΠΡΩΤΟΤΥΠΗΣ ΖΩΝΤΑΝΗΣ ΜΟΥΣΙΚΗΣ - ΠΡΟΒΟΛΗ ΤΗΣ ΤΑΙΝΙΑΣ "ΠΡΟΣΕΧΩΣ", ΠΑΡΑΓΩΓΗ ΤΗΣ ΚΙΝΗΜΑΤΟΓΡΑΦΙΚΗΣ ΛΕΣΧΗΣ ΗΛΙΟΥΠΟΛΗΣ
•	ΚΥΡΙΑΚΗ 17/2/2019,  6:00 μ.μ.,  ΣΤΟ ΘΕΑΤΡΟ ΤΟΥ ΔΗΜΑΡΧΙΑΚΟΥ ΜΕΓΑΡΟΥ ΗΛΙΟΥΠΟΛΗΣ (Λεωφ. Σοφ. Βενιζέλου 114 και Κουντουριώτου)
ΤΡΑΓΟΥΔΙΑ ΚΑΙ ΟΡΧΗΣΤΡΙΚΗ ΜΟΥΣΙΚΗ ΤΟΥ ΝΙΚΟΥ ΚΥΠΟΥΡΓΟΥ ΑΠΟ ΤΟ ΘΕΑΤΡΟ ΚΑΙ ΤΟΝ ΚΙΝΗΜΑΤΟΓΡΑΦΟ
CAMERATA JUNIOR - ΟΡΧΗΣΤΡΑ ΝΕΩΝ ΤΩΝ ΦΙΛΩΝ ΤΗΣ ΜΟΥΣΙΚΗΣ ΣΕ ΜΟΥΣΙΚΗ ΔΙΕΥΘΥΝΣΗ ΤΟΥ ΝΙΚΟΥ ΧΑΛΙΑΣΑ - ΔΩΡΟΣ ΔΗΜΟΣΘΕΝΟΥΣ (ΦΩΝΗ) 

LOCATION:
END:VEVENT

END:VCALENDAR
