BEGIN:VCALENDAR
VERSION:2.0
PRODID:-//hacksw/handcal//NONSGML v1.0//EN
BEGIN:VEVENT
UID:6b464f19f6386e8c139e7220b5aa7d2e
DTSTAMP:20260421T004624Z

DTSTART:20190215T203000
DTEND:20190215T203000
SUMMARY:Ο Γαβρίλης Λαμπάτος στο Απρόβλεπτο - ΚΚΕ και Εξουσία 1940-1944
DESCRIPTION:Tο βιβλιοπωλείο Απρόβλεπτο και οι εκδόσεις Μεταίχμιο σας προσκαλούν στην παρουσίαση του βιβλίου του Γαβρίλη Λαμπάτου ΚΚΕ και Εξουσία 1940-1944 την Παρασκευή 15 Φεβρουαρίου 2019, στις 8:30 μ.μ., στον χώρο του βιβλιοπωλείου.

Το 1940, τις παραµονές του ελληνοϊταλικού πολέµου, το KKE ήταν ένα κόµµα αποδιαρθρωµένο οργανωτικά, ενώ οι διαρκείς αλλαγές πολιτικής που ακολουθούσε η Κοµµουνιστική Διεθνής έναντι του ναζισµού προξενούσαν σύγχυση στους κοµµουνιστές σε ολόκληρη την Ευρώπη. Παρ’ όλα αυτά, το ΚΚΕ κατόρθωσε να ανασυγκροτηθεί·ως το 1944 κατέστη κόµµα εξουσίας και απειλούσε να µετασχηµατίσει σχεδόν ριζικά το πολιτικό σύστηµα όπως αυτό είχε διαµορφωθεί τις προηγούµενες δεκαετίες.

Μέσα από ανέκδοτες προσωπικές µαρτυρίες και αρχειακές πηγές, το βιβλίο διερευνά το πώς επιτεύχθηκε αυτή η αλλαγή - και το τίµηµα που απαιτήθηκε σε πολλές περιπτώσεις. Εξετάζονται οι δοµές εξουσίας των κοµµουνιστών στην ορεινή Ελλάδα και η πολιτική του κόµµατος, τόσο στην κεντρική σκηνή όσο και στις επιµέρους περιφέρειες της χώρας. Παρουσιάζεται επίσης η διαδροµή Ελλήνων κοµµουνιστών από την ίδρυση του κόµµατος ως τον Β΄ Παγκόσµιο Πόλεµο.

Μια µελέτη πολιτικής ιστορίας σε µια εποχή τεκτονικών κοινωνικών ανακατατάξεων, µέσα από τις άγνωστες και ορισµένες φορές σκοτεινές πλευρές της Εθνικής Αντίστασης.

Περιλαμβάνεται φωτογραφικό υλικό.

Ο ιστορικός Γαβρίλης Λαμπάτος θα μιλήσει για το βιβλίο του και θα απαντήσει σε ερωτήσεις του κοινού.

Βιβλιοπωλείο Απρόβλεπτο, Ρήγα Φεραίου 25, Ηλιούπολη, τηλ. 210 99 40 110 

LOCATION:
END:VEVENT

END:VCALENDAR
