BEGIN:VCALENDAR
VERSION:2.0
PRODID:-//hacksw/handcal//NONSGML v1.0//EN
BEGIN:VEVENT
UID:800359e2ed2b3a63b2d17eaff69c3a73
DTSTAMP:20260419T175853Z

DTSTART:20151011T170000
DTEND:20151011T170000
SUMMARY:Ένας 80χρονος θα ακούσει για παιδικά βιβλία
DESCRIPTION:Στα πλαίσια των εορτασμών των 80 χρόνων από την ανέγερση του πρώτου Ναού της Αγίας Μαρίνης Ηλιουπόλεως, η εκκλησιαστική μας κοινότητα θα πραγματοποιήσει την Κυριακή 11 Οκτωβρίου την παρουσίαση στο δύο παιδικών βιβλίων.



Η εκδήλωση θα γίνει εντός του Ιερού Ναού αμέσως μετά τον πανηγυρικό εσπερινό επί τη εορτή της Συνάξεως των Αθηναίων Αγίων, όπου θα χοροστατήσει ο Επίσκοπος Σαλώνων Αντώνιος.



Ο Πρωτοσύγκελος της Μητροπόλεως Φωκίδος Αρχιμανδρίτης Νεκτάριος Μουλατσιώτης θα μιλήσει για το βιβλίο "ο Σκύλος της Μονής" του Αρχιμανδρίτη Δαβίδ Τσελίκα, ενώ ο Ιεροκήρυκας της Μητροπόλεως Μεσσηνίας Αρχιμανδρίτης Χερουβείμ Μουστάκας θα παρουσιάσει το βιβλίο "Προετοιμασία για την Θεία Λειτουργία" του θεολόγου καθηγητή Ανδρέα Καρίβαλη.


Θα ακολουθήσει η γνώμη των παιδιών για τα βιβλία και οι χορωδίες των ενοριακών νεανικών Συνάξεων θα κλείσουν την εκδήλωση με τραγούδια. 


Έναρξη Εσπερινού 17:00 πέρας εκδηλώσεως 19:00


Εκ του τμήματος Δημοσίων Σχέσεων και Επικοινωνίας του Ενοριακού Συμβουλίου Ποιμαντικού Έργου του Ιερού Ναού Αγίας Μαρίνης Ηλιουπόλεως.
www.agmarina.gr

LOCATION:Αγιά Μαρίνα, Ηλιούπολη 163 44, Ελλάδα
END:VEVENT

END:VCALENDAR
