BEGIN:VCALENDAR
VERSION:2.0
PRODID:-//hacksw/handcal//NONSGML v1.0//EN
BEGIN:VEVENT
UID:475ed521f330efa8f6f95fe63710f866
DTSTAMP:20260420T173851Z

DTSTART:20190210T200000
DTEND:20190210T200000
SUMMARY:Προβολη ταινίας ΕΠΙΣΤΡΟΦΗ ΣΤΗΝ ΚΟΡΥΦΗ
DESCRIPTION:Η Κινηματογραφική Λέσχη  Ηλιούπολης σας προσκαλεί στην εκδήλωσή της



ΕΠΙΣΤΡΟΦΗ ΣΤΗΝ ΚΟΡΥΦΗ
του Στρατή Χατζηελενούδα (ΕΛΛΑΔΑ, 2018, έγχρωμη, 96΄)




   ΚΥΡΙΑΚH  10/02/2019 (8MM) 
Θα ακολουθήσει συζήτηση με εισηγητές τους Στρατή Χατζηελενούδα  (σκηνοθέτη της ταινίας) και συντελεστές της ταινίας.
ü  Βραβείο Κοινού Fischer και Βραβείo της Ελληνικής Ραδιοφωνίας Τηλεόρασης στο 20ό Φεστιβάλ Ντοκιμαντέρ Θεσσαλονίκης
Ø   Σε συνεργασία με τον Ελληνικό Ορειβατικό Σύλλογο Ηλιούπολης και το Κέντρο Ειδικής Εκπαίδευσης Παιδιών με Ειδικές Ανάγκες «Ορίζοντες».




ΣΤΟ ΜΟΥΣΕΙΟ ΕΘΝΙΚΗΣ ΑΝΤΙΣΤΑΣΗΣ
(Μαρ. Αντύπα 134 και Σοφ. Βενιζέλου 100, Ηλιούπολη,
Τηλ.: 2109941199, 2109914732, 6945405825, E-mail: info@klh.gr,
Ιστοσελίδα: www.klh.gr)
LOCATION:
END:VEVENT

END:VCALENDAR
