BEGIN:VCALENDAR
VERSION:2.0
PRODID:-//hacksw/handcal//NONSGML v1.0//EN
BEGIN:VEVENT
UID:322d5d239739403be2e834a84daedab4
DTSTAMP:20260420T181459Z

DTSTART:20190125T183000
DTEND:20190125T183000
SUMMARY:Η ΔΙΚΗ ΤΗΣ ΧΡΥΣΗΣ ΑΥΓΗΣ, Η ΜΑΧΗ ΕΝΑΝΤΙΑ ΣΤΟ ΡΑΤΣΙΣΜΟ, Η ΟΡΓΑΝΩΣΗ ΣΤΗ ΓΕΙΤΟΝΙΑ ΜΑΣ" ΚΕΕΡΦΑ ΝΟΤΙΑ
DESCRIPTION: ΚΕΕΡΦΑ Νότια-Κίνηση Ενωμένοι Ενάντια στο Ρατσισμό και τη Φασιστική Απειλή 

Η ΚΕΕΡΦΑ Νότια σας προσκαλεί στην εκδήλωση-συζήτηση:

Παρασκευή 25 Γενάρη 6.30μμ

Μουσείο Εθνικής Αντίστασης (Ηλιούπολη)

"Η ΔΙΚΗ ΤΗΣ ΧΡΥΣΗΣ ΑΥΓΗΣ, Η ΜΑΧΗ ΕΝΑΝΤΙΑ ΣΤΟ ΡΑΤΣΙΣΜΟ, Η ΟΡΓΑΝΩΣΗ ΣΤΗ ΓΕΙΤΟΝΙΑ ΜΑΣ"

Ομιλητές:
Δημήτρης Ζώτος, δικηγόρος, πολιτική αγωγή στη δίκη της ΧΑ
Γιώργος Τσιάκαλος, ομότιμος καθηγητής ΑΠΘ
Άννα Στάμου, Μουσουλμανική Ένωση Ελλάδας
Εύη Καβαλάρη, εκπαιδευτικός PhD, Σύλλογος Γονέων 10ο δημοτικό Ηλ/λης

Συντονίζει η Χρύσα Δουζένη, κεντρικό συντονιστικό ΚΕΕΡΦΑ

Χαιρετίζει ο Γιάννης Σακαρίδης, σκηνοθέτης της ταινίας AMERIKA SQUARE

Παρ, 25 Ιαν στις 6:30 μ.μ.

Δίκη της Χ.Α,Η μάχη ενάντια στο ρατσισμό,Η οργάνωση στη γειτονιά
LOCATION:
END:VEVENT

END:VCALENDAR
