BEGIN:VCALENDAR
VERSION:2.0
PRODID:-//hacksw/handcal//NONSGML v1.0//EN
BEGIN:VEVENT
UID:66bbbe0824d25a2fda9b21a0dad26907
DTSTAMP:20260421T004444Z

DTSTART:20190118T203000
DTEND:20190118T203000
SUMMARY:Η Πέρσα Κουμούτση στο Απρόβλεπτο
DESCRIPTION:Το βιβλιοπωλείο Απρόβλεπτο και οι εκδόσεις Μεταίχμιο σας προσκαλούν στην παρουσίαση του νέου μυθιστορήματος της Πέρσας Κουμούτση "Αλεξανδρινές φωνές στην οδό Λέψιους" 
την Παρασκευή 18 Ιανουαρίου 2019 στις 8:30 μ.μ.

Για το βιβλίο θα μιλήσει η Μαρία Ασημακοπούλου, φιλόλογος - ραδιοφωνική παραγωγός του Δημοτικού Ραδιόφωνου Ηλιούπολης. Θα ακολουθήσει συζήτηση με το κοινό και τη συγγραφέα.

Ο Κωνσταντίνος Καβάφης προς το τέλος της ζωής του.

Ο επιφανής γιατρός του με την απατηλή εικόνα της ευτυχισμένης οικογενειακής ζωής. Ο ξεπεσμένος δικηγόρος και φίλος του. Η φιλήδονη νεαρή γειτόνισσα που τάραξε το συντηρητικό προσωπείο της παροικίας. Η άστατη ηθοποιός με τους θεατρινισμούς και τα καπρίτσια της. Η γοητευτική Ιταλίδα που ζούσε το δικό της δράμα, πέρα από τα βλέμματα θαυμασμού που εισέπραττε. Αυτά και άλλα πρόσωπα, άγνωστα τα περισσότερα, που έρχονται σε επαφή με εμβληματικές φιγούρες της εποχής (Τσίρκα, Φόστερ, Ουνγκαρέτι). Είναι οι φωνές τους, στην οδό Λέψιους της Αλεξάνδρειας στα χρόνια του Μεσοπολέμου (1930-33), που πρωταγωνιστούν σ’ αυτό το μυθιστόρημα -απαλλαγμένες από εξωραϊσμούς και υπερβολές, με τις αδυναμίες, τους φόβους και τα πάθη τους- και δημιουργούν ένα ανάγλυφο ψηφιδωτό της πόλης και μιας εποχής.






Βιβλιοπωλείο Απρόβλεπτο, Ρήγα Φεραίου 25 Ηλιούπολη, τηλ. 210 99 40 110
LOCATION:
END:VEVENT

END:VCALENDAR
