BEGIN:VCALENDAR
VERSION:2.0
PRODID:-//hacksw/handcal//NONSGML v1.0//EN
BEGIN:VEVENT
UID:36dccc13f56a9068f082b541e08724d0
DTSTAMP:20260420T202436Z

DTSTART:20190120T200000
DTEND:20190120T200000
SUMMARY:Προβολη ταινίας TÉRIADE – ΣΤΡΑΤΗΣ ΕΛΕΥΘΕΡΙΑΔΗΣ (1897-1983) του Σίμου Κορεξενίδη
DESCRIPTION:Η Κινηματογραφική Λέσχη  Ηλιούπολης σας προσκαλεί στην εκδήλωσή της

Ο ΠΡΩΤΟΠΟΡΟΣ ΚΑΙ ΔΙΟΡΑΤΙΚΟΣ ΣΤΡΑΤΗΣ ΕΛΕΥΘΕΡΙΑΔΗΣ - TÉRIADE
Η ΜΕΓΑΛΗ ΚΛΗΡΟΝΟΜΙΑ ΤΟΥ ΣΤΗΝ ΕΛΛΑΔΑ

•	ΚΥΡΙΑΚΗ  20/01/2019 ΣΤΙΣ 8:00 μ.μ.
Θα προβληθεί η ταινία
TÉRIADE – ΣΤΡΑΤΗΣ ΕΛΕΥΘΕΡΙΑΔΗΣ (1897-1983)
του Σίμου Κορεξενίδη (ΕΛΛΑΔΑ, 2016, έγχρωμη, 75΄)

Θα ακολουθήσει συζήτηση με εισηγητή τον Σίμο Κορεξενίδη (σκηνοθέτη της ταινίας).

-		Σε συνεργασία με την Ένωση Καλλιτεχνών και Λογοτεχνών Ηλιούπολης «Το Εργαστήρι».

ΣΤΟ ΜΟΥΣΕΙΟ ΕΘΝΙΚΗΣ ΑΝΤΙΣΤΑΣΗΣ
(Μαρ. Αντύπα 134 και Σοφ. Βενιζέλου 100, Ηλιούπολη,
Τηλ.: 2109941199, 2109914732, 6945405825, E-mail: info@klh.gr,
Ιστοσελίδα: www.klh.gr)

Trailer
https://youtu.be/ZMeOFW3vVKA 

 

LOCATION:
END:VEVENT

END:VCALENDAR
