BEGIN:VCALENDAR
VERSION:2.0
PRODID:-//hacksw/handcal//NONSGML v1.0//EN
BEGIN:VEVENT
UID:ac2c8896c1f7c6833965d5eb534a0e36
DTSTAMP:20260420T180952Z

DTSTART:20190112T183000
DTEND:20190112T183000
SUMMARY:Προβολή ταινίας American Square
DESCRIPTION:Προβολή και Συζήτηση

η Πλατεία Αμερικής είναι
μια πολυπολιτισμική γειτονιά της Αθήνας
τα Σχολεία ας είναι
οι πολυπολιτισμικές γειτονίες της πόλης

Στη συζήτηση θα παρευρίσκονται 
ο σκηνοθέτης και οι ηθοποιοί της ταινίας 

Σάββατο 12 Ιανουαρίου 2019
Ωρα 6.30 μμ

Μουσείο Εθνικής Αντίστασης
Σοφοκλή Βενιζέλου & Μαρίνου Αντύπα

Ενωση Συλλόγων Γονέων και Κηδεμόνων Ηλιούπολης

LOCATION:
END:VEVENT

END:VCALENDAR
