BEGIN:VCALENDAR
VERSION:2.0
PRODID:-//hacksw/handcal//NONSGML v1.0//EN
BEGIN:VEVENT
UID:8f88f4a74e98a2f4b3cef6d37469a7fc
DTSTAMP:20260419T175623Z

DTSTART:20151011T110000
DTEND:20151011T110000
SUMMARY:ΕΚΔΗΛΩΣΗ ΓΙΑ ΣΧΟΛΙΚΟ ΕΚΦΟΒΙΣΜΟ 
DESCRIPTION:Το ΔΣ του Συλλόγου Εκπαιδευτικών Π.Ε. Ηλιούπολης "Μιχάλης Παπαμαύρος" οργανώνει την εκδήλωση με θέμα: Σχολικός εκφοβισμός: Μύθοι και πραγματικότητα.
Με ομιλητές τους:
Κυριάκο Ιωαννίδη (Κοινωνιολόγος) - "Εκπαιδευτικό σύστημα και "σχολικός εκφοβισμός"
Χρουστουλάκης Ιωάννης (Παιδοψυχολόγος) - "Εναντιωματική και προκλητική συμπεριφορά"
LOCATION:
END:VEVENT

END:VCALENDAR
