BEGIN:VCALENDAR
VERSION:2.0
PRODID:-//hacksw/handcal//NONSGML v1.0//EN
BEGIN:VEVENT
UID:d234a9f3ca0bcb60b1823aa6200cc5ef
DTSTAMP:20260420T180758Z

DTSTART:20181219T190000
DTEND:20181219T190000
SUMMARY:Aνθρωποι & κατοικίδια ζώα - Κακοποίηση ζώων & Οικογενειακή βία
DESCRIPTION:Πρόσκληση

Η Δημοτική Κίνηση ΗΛΙΟΥ-πόλις, ανθρώπινη πόλη,
σας προσκαλεί στην ανοικτή εκδήλωση με θέμα :

ΑΝΘΡΩΠΟΙ ΚΑΙ ΚΑΤΟΙΚΙΔΙΑ ΖΩΑ
Σχέση πολιτισμού & Αρρηκτη σχέση ζωής

ΚΑΚΟΠΟΙΗΣΗ ΖΩΩΝ ΚΑΙ ΟΙΚΟΓΕΝΕΙΑΚΗ ΒΙΑ

Ομιλήτριες :
Κατερίνα Λουκάκη Κτηνίατρος PhD Ιατρ. Σχολής ΕΚΠΑ
Eιρήνη Ντάκου Ψυχολόγος MSc Ψυχοθεραπεύτρια
Δέσποινα Σιγάλα Γραμ. Ζωοφιλικής Ένωσης Ηλιούπολης

Τετάρτη 19 Δεκεμβρίου 2018
Ώρα 7.00 μμ

Μουσείο Εθνικής Αντίστασης
LOCATION:
END:VEVENT

END:VCALENDAR
