BEGIN:VCALENDAR
VERSION:2.0
PRODID:-//hacksw/handcal//NONSGML v1.0//EN
BEGIN:VEVENT
UID:0f4bbec63eb89311847c40805c5d8933
DTSTAMP:20260420T181255Z

DTSTART:20181212T190000
DTEND:20181212T190000
SUMMARY:Η επόμενη μέρα μετά τα μνημόνια - Ανοικτή εκδήλωση-συζήτηση με Γιάννη Δραγασάκη
DESCRIPTION:ΠΡΟΣΚΛΗΣΗ

Ανοικτή εκδήλωση-συζήτηση

Η ΕΠΟΜΕΝΗ ΜΕΡΑ ΜΕΤΑ ΤΑ ΜΝΗΜΟΝΙΑ

Ομιλητής 

Γιάννης Δραγασάκης
Αντιπρόεδρος της Κυβέρνησης και
Υπουργός Οικονομίας & Ανάπτυξης

Τετάρτη 12 Δεκεμβρίου 2018 - Ωρα 19:00
Δημοτικό Αλσος Δημήτρης Κιντής
Μνησικλέους & Υδρας ΗΛΙΟΥΠΟΛΗ
LOCATION:
END:VEVENT

END:VCALENDAR
