BEGIN:VCALENDAR
VERSION:2.0
PRODID:-//hacksw/handcal//NONSGML v1.0//EN
BEGIN:VEVENT
UID:fc4abf14df735761745b55807cbd32de
DTSTAMP:20260420T202353Z

DTSTART:20180905T203000
DTEND:20180905T203000
SUMMARY:Προβολή ταινίας " ΠΡΟΣΩΠΑ & ΙΣΤΟΡΙΕΣ των Ανιές Βαρντά και JR"                      
DESCRIPTION:ΚΙΝΗΜΑΤΟΓΡΑΦΙΚΗ ΛΕΣΧΗ ΗΛΙΟΥΠΟΛΗΣ - ΠΡΟΣΩΠΑ & ΙΣΤΟΡΙΕΣ των Ανιές Βαρντά και JR ΤΕΤΑΡΤΗ 05/09/2018 

ΑΡΙΣΤΟΥΡΓΗΜΑΤΙΚΑ ΝΤΟΚΙΜΑΝΤΕΡ ΠΟΙΗΣΗΣ ΚΑΙ ΣΤΟΧΑΣΜΟΥ
 ΤΕΤΑΡΤΗ   05/09/2018       ΠΡΟΣΩΠΑ & ΙΣΤΟΡΙΕΣ (VISAGES VILLAGES / FACES PLACES)
των Ανιές Βαρντά και JR (ΓΑΛΛΙΑ, 2017, έγχρωμη, 89΄)
Βραβείο Καλύτερου Ντοκιμαντέρ στο Διεθνές Φεστιβάλ Κινηματογράφου Κανών
Η 90χρονη σκηνοθέτις Ανιές Βαρντά και ο 35χρονος φωτογράφος και εικαστικός Ζε Αρ (JR) διασχίζουν την επαρχιακή Γαλλία με ένα φορτηγάκι-φωτογραφικό θάλαμο. Συναντώντας καθημερινούς ανθρώπους, δημιουργούν τα γιγάντια πορτρέτα τους και αναρτώντας τα σε δημόσιους χώρους επεμβαίνουν δημιουργικά στο τοπίο. Συγγενικές ψυχές, η Βαρντά και ο JR μοιράζονται το πάθος για τις εικόνες και το πώς αυτές δημιουργούνται, παρουσιάζονται και μοιράζονται. Ένας ύμνος στην ομορφιά των απλών ανθρώπων και των απρόσμενων ιστοριών τους και στην υπέρτατη αξία της μνήμης.




05/09/2018 στις 8:30 μ.μ. και στις 10:30 μ.μ.
ΣΤΟΝ ΔΗΜΟΤΙΚΟ ΚΙΝΗΜΑΤΟΓΡΑΦΟ ΗΛΙΟΥΠΟΛΗΣ «ΜΕΛΙΝΑ ΜΕΡΚΟΥΡΗ»
                                     (Λεωφ. Ειρήνης 50, Πλατεία Εθνικής Αντίστασης, Άνω Ηλιούπολη,
Τηλ.: 210 9937870, 210 9941199, 210 9914732, 6945405825, E-mail: info@klh.gr
Ιστοσελίδα: www.klh.gr


LOCATION:
END:VEVENT

END:VCALENDAR
