BEGIN:VCALENDAR
VERSION:2.0
PRODID:-//hacksw/handcal//NONSGML v1.0//EN
BEGIN:VEVENT
UID:9a077bcc04b0e3e8f51279554326cee1
DTSTAMP:20260420T190843Z

DTSTART:20180829T210000
DTEND:20180829T210000
SUMMARY:Προβολή ταινίας " Η ΑΛΛΗ ΟΨΗ ΤΗΣ ΕΛΠΙΔΑΣ"                      
DESCRIPTION:ΚΙΝΗΜΑΤΟΓΡΑΦΙΚΗ ΛΕΣΧΗ ΗΛΙΟΥΠΟΛΗΣ - ΤΕΤΑΡΤΗ 29/08/2018 " Η ΑΛΛΗ ΟΨΗ ΤΗΣ ΕΛΠΙΔΑΣ" του Άκι Καουρισμάκι
ΤΕΤΑΡΤΗ   29/08/2018      


 Η ΑΛΛΗ ΟΨΗ ΤΗΣ ΕΛΠΙΔΑΣ (TOIVON TUOLLA PUOLEN)
                                                     του Άκι Καουρισμάκι (ΦΙΝΛΑΝΔΙΑ/ΓΕΡΜΑΝΙΑ, 2017, έγχρωμη, 98΄)
Αργυρή Άρκτος Καλύτερης Σκηνοθεσίας στο Διεθνές Φεστιβάλ Κινηματογράφου Βερολίνου


Η ταινία του Άκι Καουρισμάκι πραγματεύεται με μοναδικό και πρωτότυπο τρόπο, μέσα από την ιδιαίτερη, μινιμαλιστική ματιά του σκηνοθέτη, το προσφυγικό ζήτημα, ένα από τα πιο φλέγοντα θέματα της εποχής μας. Ένας πωλητής αντρικών πουκαμίσων εγκαταλείπει τη γυναίκα, το σπίτι και την εταιρεία του, κερδίζει ένα σεβαστό ποσό σε μια παρτίδα πόκερ και αγοράζει ένα εστιατόριο. Παράλληλα, δίνει δουλειά και βοηθά έναν Σύρο πρόσφυγα κι έτσι δύο άντρες που εγκατέλειψαν τα σπίτια τους για διαφορετικούς λόγους αλλάζουν μαζί τις ζωές του.

29/08/2018 στις 8:30 μ.μ. και στις 10:30 μ.μ.
ΣΤΟΝ ΔΗΜΟΤΙΚΟ ΚΙΝΗΜΑΤΟΓΡΑΦΟ ΗΛΙΟΥΠΟΛΗΣ «ΜΕΛΙΝΑ ΜΕΡΚΟΥΡΗ»
                                     (Λεωφ. Ειρήνης 50, Πλατεία Εθνικής Αντίστασης, Άνω Ηλιούπολη,
Τηλ.: 210 9937870, 210 9941199, 210 9914732, 6945405825, E-mail: info@klh.gr
Ιστοσελίδα: www.klh.gr


LOCATION:
END:VEVENT

END:VCALENDAR
