BEGIN:VCALENDAR
VERSION:2.0
PRODID:-//hacksw/handcal//NONSGML v1.0//EN
BEGIN:VEVENT
UID:d8b6bc0a07f15a1cc012026086b94802
DTSTAMP:20260420T202354Z

DTSTART:20180815T210000
DTEND:20180815T210000
SUMMARY:Προβολή ταινίας " ΙΣΤΟΡΙΕΣ ΜΙΑΣ ΝΥΧΤΑΣ"                      
DESCRIPTION:ΟΨΕΙΣ ΤΟΥ ΣΥΓΧΡΟΝΟΥ ΕΥΡΩΠΑΪΚΟΥ ΚΙΝΗΜΑΤΟΓΡΑΦΟΥ

    ΤΕΤΑΡΤΗ  15/08/2018     ΙΣΤΟΡΙΕΣ ΜΙΑΣ ΝΥΧΤΑΣ (POSOKI / DIRECTIONS)  
του Στέφαν Κομαντάρεφ (ΒΟΥΛΓΑΡΙΑ/ΓΕΡΜΑΝΙΑ/FYROM, 2017, έγχρωμη, 103’)





Πέντε νυχτερινές διαδρομές στη Βουλγαρία της κρίσης, της διαφθοράς, της πίστης, της ελπίδας. Ένας χρεωμένος ταξιτζής πυροβολεί θανάσιμα τον τραπεζίτη που τον εκβιάζει και στη συνέχεια αυτοκτονεί. Το ίδιο βράδυ, κι ενώ στο ραδιόφωνο οι πάντες σχολιάζουν το περιστατικό, πέντε συνάδελφοί του κάνουν τη βάρδια τους. Ο Στέφαν Κομαντάρεφ μέσα από τις διαφορετικές ιστορίες της ταινίας απεικονίζει τη ζοφερή πραγματικότητα της σύγχρονης βουλγαρικής κοινωνίας.



























Directions (Posoki) – New clip (1/3) official from Cannes
https://youtu.be/zTNmCcc9K6o









Showing all 1 win and 4 nominations

Cannes Film Festival 2017

Nominee

Un Certain Regard Award Stephan Komandarev



Cleveland International Film Festival 2018

Nominee

George Gund III Memorial Central and Eastern European Film Competition Stephan Komandarev



Gijón International Film Festival 2017

Winner

Best Screenplay Stephan Komandarev

Simeon Ventsislavov



Haifa International Film Festival 2017

Nominee

Golden Anchor Award Stephan Komandarev



Sarajevo Film Festival 2017

Nominee

Heart of Sarajevo Best Film

Stephan Komandarev



























ΚΑΘΕ ΤΕΤΑΡΤΗ ΣΤΙΣ 9:00 μ.μ. ΚΑΙ ΣΤΙΣ 11:00 μ.μ.



(Από τις 22/08/2018 στις 8:30 μ.μ. και στις 10:30 μ.μ.)



ΣΤΟΝ ΔΗΜΟΤΙΚΟ ΚΙΝΗΜΑΤΟΓΡΑΦΟ ΗΛΙΟΥΠΟΛΗΣ «ΜΕΛΙΝΑ ΜΕΡΚΟΥΡΗ»



                                     (Λεωφ. Ειρήνης 50, Πλατεία Εθνικής Αντίστασης, Άνω Ηλιούπολη,



Τηλ.: 210 9937870, 210 9941199, 210 9914732, 6945405825, E-mail: info@klh.gr



Ιστοσελίδα: www.klh.gr)
LOCATION:
END:VEVENT

END:VCALENDAR
