BEGIN:VCALENDAR
VERSION:2.0
PRODID:-//hacksw/handcal//NONSGML v1.0//EN
BEGIN:VEVENT
UID:58c89fac6ed99ad4411ce3c549ea473d
DTSTAMP:20260420T180757Z

DTSTART:20151021T190000
DTEND:20151021T190000
SUMMARY:Σύλλογος Κρητών Ηλιούπολης: Νέαρχος – Μέγας Αλέξανδρος
DESCRIPTION:Η Πανελλήνια Ομοσπονδία Πολιτιστικών Κρητικών Σωματείων (ΠΟΠΚΣ), ο Σύνδεσμος Αλέξανδρος Φιλίππου Έλλην Μακεδών (ΣΑΦΕΜ) και ο Σύλλογος Κρητών Ηλιούπολης «Η Κρήτη»

Σας προσκαλούν στην εκδήλωση με θέμα: “Νέαρχος – Μέγας Αλέξανδρος” την Τετάρτη 21 Οκτωβρίου 2015 και ώρα 19:00 στο αμφιθέατρο του Δημαρχείου Ηλιούπολης, οδός Σοφ.Βενιζέλου & Κουντουριώτη.

Ομιλητές: 
Ιωάννης Τσουχλαράκης (Πολιτισμολόγος – Συγγραφέας)
Γιώργος Λεκάκης (Ιστορικός – Ερευνητής)

Η εκδήλωση θα πλαισιωθεί με Κρητικούς, Μακεδονικούς χορούς και Ριζίτικα.

Η παρουσία σας θα μας δώσει ιδιαίτερη χαρά.


 
Σύλλογος Κρητών Ηλιούπολης "Η ΚΡΗΤΗ"


Αριάδνης 10. 16345 Ηλιούπολη
210 9752447
Email: syllogoskritonilioupolis@yahoo.gr


Facebook: Σύλλογος Κρητών Ηλιούπολης
Instagram: silogos_kriton_ilioupolis

LOCATION:
END:VEVENT

END:VCALENDAR
