BEGIN:VCALENDAR
VERSION:2.0
PRODID:-//hacksw/handcal//NONSGML v1.0//EN
BEGIN:VEVENT
UID:34e261dd737ccd2bb7521b0e6351d620
DTSTAMP:20260420T202510Z

DTSTART:20180704T210000
DTEND:20180704T210000
SUMMARY:Προβολή ταινίας " ΘΕΕ ΜΟΥ ΤΙ ΣΟΥ ΚΑΝΑΜΕ; "                      
DESCRIPTION: ΤΕΤΑΡΤΗ  04/07/2018        ΘΕΕ ΜΟΥ ΤΙ ΣΟΥ ΚΑΝΑΜΕ;

(QU’EST-CE QU’ON A FAIT AU BON DIEU?)
του Φιλίπ ντε Σοβερόν (ΓΑΛΛΙΑ, 2014, έγχρωμη, 97΄)

 

Aνάλαφρη κωμωδία που σατιρίζει τα λαογραφικά και κοινωνικοθρησκευτικά στερεότυπα. Η πιο επιτυχημένη ταινία στη Γαλλία πριν από τέσσερα χρόνια (8 εκατομμύρια εισιτήρια στις γαλλικές αίθουσες). H Mαρί και ο Κλοντ Βερνέιγ είναι ένα παραδοσιακό ζευγάρι της μεσοαστικής γαλλικής κοινωνίας, που έχουν τέσσερις κόρες. Οι τρεις από αυτές έχουν παντρευτεί ξένους γαμπρούς. Όταν η τέταρτη τους ανακοινώνει ότι θα παντρευτεί τον Σαρλ, παραλείπει ότι είναι από την Αφρική... Απολαυστικός ο Κριστιάν Κλαβιέ στον ρόλο του πατέρα.

ΚΑΘΕ ΤΕΤΑΡΤΗ ΣΤΙΣ 9:00 μ.μ. ΚΑΙ ΣΤΙΣ 11:00 μ.μ.

(Από τις 22/08/2018 στις 8:30 μ.μ. και στις 10:30 μ.μ.)

ΣΤΟΝ ΔΗΜΟΤΙΚΟ ΚΙΝΗΜΑΤΟΓΡΑΦΟ ΗΛΙΟΥΠΟΛΗΣ «ΜΕΛΙΝΑ ΜΕΡΚΟΥΡΗ»

                                     (Λεωφ. Ειρήνης 50, Πλατεία Εθνικής Αντίστασης, Άνω Ηλιούπολη,

Τηλ.: 210 9937870, 210 9941199, 210 9914732, 6945405825, E-mail: info@klh.gr

Ιστοσελίδα: www.klh.gr)

 

LOCATION:
END:VEVENT

END:VCALENDAR
