BEGIN:VCALENDAR
VERSION:2.0
PRODID:-//hacksw/handcal//NONSGML v1.0//EN
BEGIN:VEVENT
UID:29af1219b48cc1680a37ea0497433057
DTSTAMP:20260421T032815Z

DTSTART:20180630T211500
DTEND:20180630T211500
SUMMARY: Αισχύλου "ΙΚΕΤΙΔΕΣ" Αλληλέγγυο Θέατρο ΗΛΙΟΥ-πόλις
DESCRIPTION:
LOCATION:
END:VEVENT

END:VCALENDAR
