BEGIN:VCALENDAR
VERSION:2.0
PRODID:-//hacksw/handcal//NONSGML v1.0//EN
BEGIN:VEVENT
UID:5ddf4939cac0bb58ce8a38db2b5a97e8
DTSTAMP:20260421T021856Z

DTSTART:20180622T200000
DTEND:20180622T200000
SUMMARY:Εκθεση ζωγραφικής στη μνήμη του Αργύρη Ζαχαρόπουλου
DESCRIPTION:Η Ενωση Καλλιτεχνών & Λογοτεχνών Ηλιούπολης

διοργανώνει έκθεση ζωγραφικής
στη μνήμη του εκλιπόντος Γεν. Γραμματέα
ΑΡΓΥΡΗ ΖΑΧΑΡΟΠΟΥΛΟΥ
από 22 έως και 24 Ιουνίου 2018 στο ΒΑΓΟΝΙ.
Τα εγκαίνια της έκθεσης θα γίνουν την 
Παρασκευή 22 Ιουνίου 2018 και ώρα 20.00
Την Κυριακή 24 Ιουνίου 2018, σε συνεργασία με 
τις Διαδρομές Τέχνης και με την επιμέλεια της
ΟΛΓΑΣ ΧΑΝΟΥΖΑ, θα εκτεθούν Εικαστικά Κοσμήματα,
Αξεσουάρ και Γυναικεία Ενδύματα
Η Εκθεση θα λειτουργεί από τις 18.00 έως 23.00 καθημερινά
ΕΙΣΟΔΟΣ ΕΛΕΥΘΕΡΗ

Ο Πρόεδρος Στέλιος Μαρούλης
Ο Γεν. Γραμματέας Βασίλειος Μόσχου

ΕΝΩΣΗ ΚΑΛΛΙΤΕΧΝΩΝ & ΛΟΓΟΤΕΧΝΩΝ ΗΛΙΟΥΠΟΛΗΣ 
"ΤΟ ΕΡΓΑΣΤΗΡΙ"
Σοφοκλή Βενιζέλου 92 & Πουσουλίδου 39 - ΗΛΙΟΥΠΟΛΗ



LOCATION:
END:VEVENT

END:VCALENDAR
