BEGIN:VCALENDAR
VERSION:2.0
PRODID:-//hacksw/handcal//NONSGML v1.0//EN
BEGIN:VEVENT
UID:62bf498ca772f4227878cdd1251cbbef
DTSTAMP:20260421T023529Z

DTSTART:20180609T203000
DTEND:20180609T203000
SUMMARY:Συναυλία Αλληλεγγύης και Αγάπης στο φως του φεγγαριού
DESCRIPTION:"ΣΥΝΕΡΓΑΣΙΕΣ ΠΟΛΗΣ"

Το Σάββατο 9 Ιουνίου στις 8:30 το βράδυ, στο Δημοτικό Θέατρο Άλσους «Δημήτρης Κιντής» στην Ηλιούπολη, κάτω από το φως του φεγγαριού, εννιά συνεργαζόμενοι φορείς πολιτισμού, αλληλεγγύης και εθελοντισμού, οι «ΣΥΝΕΡΓΑΣΙΕΣ ΠΟΛΗΣ», διοργανώνουν Συναυλία Αλληλεγγύης και Αγάπης με σκοπό τη συγκέντρωση τροφίμων για τη στήριξη άπορων οικογενειών της Ηλιούπολης .

Αφιέρωμα στον Μίκη Θεοδωράκη

"Αν θυμηθείς το όνειρό μου"

Συναυλία με τον Μαέστρο 
Παναγή Μπαρμπάτη

Συμμετέχουν 80 χορωδοί από τις χορωδίες :
-"Επτάχορδη λύρα Αγ. Ευθυμίου Κερατσινίου
  υπό τη Δ/νση της Χρυσούλας Τσιμούρη
-Δήμου Μαρκόπουλου "Μεσογαίας"
-"Χορωδία Νέας Ερυθραίας Δήμου Κηφισιάς"
  διδασκαλία Λίνα Ροδοπούλου
-Χορωδία-μαντολινάτα Αγ. Παντελεήμονος Αχαρνών

Σολίστ η Μέτζο Σοπράνο Ελένη Δάβου
LOCATION:
END:VEVENT

END:VCALENDAR
