BEGIN:VCALENDAR
VERSION:2.0
PRODID:-//hacksw/handcal//NONSGML v1.0//EN
BEGIN:VEVENT
UID:59009aecad1f3791d3cd2f5c71b16999
DTSTAMP:20260421T033144Z

DTSTART:20180610T190000
DTEND:20180610T190000
SUMMARY:Μουσικοθεατρική παρουσίαση του παιδικού βιβλίου "ΤΟ ΠΟΤΑΜΙ ΠΟΥ ΕΝΩΝΕΙ"
DESCRIPTION:ΠΡΟΣΚΛΗΣΗ

Το Δίκτυο Αλληλεγγύης ΗΛΙΟΥ-πόλις,
σας προσκαλεί στην 
Μουσικοθεατρική παρουσίαση του παιδικού βιβλίου
της Αγγελικής Φωστίνη

¨"ΤΟ ΠΟΤΑΜΙ ΠΟΥ ΕΝΩΝΕΙ"

συμμετέχουν οι
Αλεξάνδρα Κόνιακ, Χρίστος Σερενές, Γιώργος Ματιάμπα και η συγγραφέας.

Θα ακολουθήσει μουσικό πρόγραμμα με την Αλεξάνδρα Κόνιακ και το Χρίστο Σερενέ

Κυριακή 10 Ιουνίου - Ωρα 7 μμ

Πολυχώρος ΗΛΙΟΥ-πόλις
Ηρώς Κωνσταντοπούλου  Ηρακλείτου 1
LOCATION:
END:VEVENT

END:VCALENDAR
