BEGIN:VCALENDAR
VERSION:2.0
PRODID:-//hacksw/handcal//NONSGML v1.0//EN
BEGIN:VEVENT
UID:91a75ff82d93250b81e7cedf85a869b8
DTSTAMP:20260421T021646Z

DTSTART:20180604T200000
DTEND:20180604T200000
SUMMARY:Αναδρομική έκθεση μνήμνης ΙΩΣΗΦ Β.ΧΑΤΖΗΠΑΥΛΗ
DESCRIPTION:ΠΡΟΣΚΛΗΣΗ

Το Δίκτυο Αλληλεγγύης ΗΛΙΟΥ-πόλις,
διοργανώνει από Δευτέρα 4 έως Κυριακή 6 Ιουνίου
7 μμ - 10 μμ

Αναδρομική Εκθεση μνήμης του σκηνογράφου-ζωγράφου ΙΩΣΗΦ Β. ΧΑΤΖΗΠΑΥΛΗ

Εγκαίνια Εκθεσης Τρίτη 5 Ιουνίου - Ωρα 8 μμ

στον Πολυχώρο ΗΛΙΟΥ-πόλις
Ηρώς Κωνσταντοπούλου & Ηρακλείτου 1
LOCATION:
END:VEVENT

END:VCALENDAR
