BEGIN:VCALENDAR
VERSION:2.0
PRODID:-//hacksw/handcal//NONSGML v1.0//EN
BEGIN:VEVENT
UID:8861c61cb476c081a01e374bb69f021d
DTSTAMP:20260420T202436Z

DTSTART:20180606T210000
DTEND:20180606T210000
SUMMARY:Προβολή ταινίας "Η ΤΕΧΝΗ ΚΑΤΑΣΤΡΕΦΕΙ "                      
DESCRIPTION:AVANT PREMIЀRE
 ΤΕΤΑΡΤΗ   06/06/2018	Η ΤΕΧΝΗ ΚΑΤΑΣΤΡΕΦΕΙ                       
του Νίκου Κορνήλιου (ΕΛΛΑΔΑ, 2017, έγχρωμη, 120΄)
	Στην προβολή θα παρευρίσκονται ο Νίκος Κορνήλιος, ηθοποιοί και συνεργάτες της ταινίας.

 Ένας διάσημος ηθοποιός (Κώστας Αρζόγλου), μετά από ένα έμφραγμα καλεί κοντά του τις δύο κόρες του, από το Βέλγιο και τη Γαλλία. Προσπαθώντας να τις κρατήσει δίπλα του, τους προτείνει να ανεβάσουν μαζί έναν Μάκβεθ για τρεις. Στη διάρκεια των προβών έρχονται στην επιφάνεια σκληρές αλήθειες για τον πατέρα που ήταν πάντα απών, δοσμένος ολοκληρωτικά στην τέχνη του. Εκείνος προκαλεί τις ηθοποιούς-κόρες του να χρησιμοποιήσουν το τραυματικό αυτό παρελθόν στην ερμηνεία των ρόλων. Μέσα από την εγγύτητα των διαδοχικών προβών τα ψυχικά ρήγματα βαθαίνουν.

LOCATION:
END:VEVENT

END:VCALENDAR
