BEGIN:VCALENDAR
VERSION:2.0
PRODID:-//hacksw/handcal//NONSGML v1.0//EN
BEGIN:VEVENT
UID:7592ce5d8625a121ce41c850ecb1c758
DTSTAMP:20260419T191654Z

DTSTART:20180530T193000
DTEND:20180530T193000
SUMMARY: ΙΩΝΙΚΗ ΠΟΛΙΤΙΣΤΙΚΗ ΣΤΕΓΗ ΗΛΙΟΥΠΟΛΗΣ - εκδήλωση -αφιέρωμα για την επέτειο της αλώσεως της βασιλλίδας των πόλεων
DESCRIPTION:Η ΙΩΝΙΚΗ ΠΟΛΙΤΙΣΤΙΚΗ ΣΤΕΓΗ ΗΛΙΟΥΠΟΛΗΣ
Πραγματοποιεί εκδήλωση -αφιέρωμα για την επέτειο της αλώσεως της βασιλλίδας των πόλεων Κωνσταντινούπολης . Με ομιλίες : της Δρ. Φιλοσοφίας Ε.Κ. Πανεπιστήμιου Αθηνών Κωνσταντίνας  Παλαμιώτου με  θέμα  ¨οι παλαιολογίνες πριγκίπισσες και η συμβολή τους στην εξακτίνωση του
 Βυζαντινού πολιτισμού ¨.
 Ομιλία του καθηγητού Ιστορίας και Γεωστρατηγικής του Πανεπιστημίου Λομονόσοφ 
 της Μόσχας δρ. Γιάννη Τικτόπουλο με θέμα ¨ Η συνέχεια της πνευματικής κληρονομίας του     Βυζαντίου στη Ρωσία ¨. Tραγούδια της Πόλης με την υψίφωνο , Ζαφείρω Χατζηφωτίου 
Χοροί της Πόλης με το χορευτικό τμήμα  του  χοροδιδασκάλου Β. Ασλανίδη.  
  
Η ΕΚΔΗΛΩΣΗ ΓΙΝΕΤΑΙ  ΑΥΡΙΟ Τετάρτη 30 Μαΐου  2018 και  ώρα 19:15.
Στο Μουσείο Εθνικής Αντίστασης Ηλιούπολης
Διεύθυνση: Σοφ. Βενιζέλου  και  Μαρίνου Αντύπα

LOCATION:
END:VEVENT

END:VCALENDAR
