BEGIN:VCALENDAR
VERSION:2.0
PRODID:-//hacksw/handcal//NONSGML v1.0//EN
BEGIN:VEVENT
UID:bc98e964cc5615a939782177e9222a77
DTSTAMP:20260421T021046Z

DTSTART:20180518T190000
DTEND:20180518T190000
SUMMARY:ΤΕΧΝΗ ΚΑΙ ΠΟΛΙΤΙΚΗ
DESCRIPTION:Π Ρ Ο Σ Κ Λ Η Σ Η

Ο ΟΠΣΑ σε συνεργασία με την ΈΝΩΣΗ ΚΑΛΛΙΤΕΧΝΩΝ ΚΑΙ ΛΟΓΟΤΕΧΝΩΝ ΗΛΙΟΥΠΟΛΗΣ έχουμε την τιμή να σας προσκαλέσουμε την Παρασκευή 18/05/2018  ώρα 19.00, στην  εκδήλωσή μας, με θεματική ενότητα:

«ΤΕΧΝΗ ΚΑΙ ΠΟΛΙΤΙΚΗ. Η Αυτοδιοίκηση ως δέκτης και πομπός των μηνυμάτων της Τέχνης και της Πολιτικής.»

Η εκδήλωση  θα πραγματοποιηθεί στην αίθουσα εκδηλώσεων του  Μουσείου Εθνικής Αντίστασης (Σοφοκλή Βενιζέλου 100 & Μαρίνου Αντύπα, Ηλιούπολη.)

        Την θεματική ενότητα θα αναπτύξουν με αντίστοιχες εισηγήσεις:
1. Ο κ. Ιάκωβος Ποταμιάνος, Καθηγητής Πανεπιστημίου, Πρόεδρος Τμήματος Θεάτρου ΑΠΘ, Διευθυντής Μεταπτυχιακού Προγράμματος ΕΑΠ.
2. Η κα. Στέλλα Μουζακιώτου, Διδάκτωρ της Ιστορίας της Τέχνης,
Καθηγήτρια – σύμβουλος ΕΑΠ.

Παραμβάσεις ολιγόλεπτες θα κάνουν :
1. Ο κ. Στέλιος Μαρούλης, Πρόεδρος της “Ένωσης Καλλιτεχνών και Λογοτεχνών Ηλιούπολης”
2. Ο κ. Κυριάκος Ντηνιακός, π. Δήμαρχος Χαϊδαρίου
3. Ο κ. Λεόντιος Πετμεζάς, Ιστορικός Τέχνης
4. Η κα. Βάσω Ηλιακοπούλου, Εκπαιδευτικός-Εικαστικός Msc Φωτισμού (lighting designer)

      
 Συντονιστής: Ο   κ.  Θεόδωρος  Γεωργάκης,  Δικηγόρος Παρ΄ Αρείω Πάγω, Διδάκτωρ Πανεπιστημίου, Πρόεδρος  του  ΟΠΣΑ, π. Δήμαρχος Ηλιούπολης     
 Παρουσιάστρια: Η κα Λαμπρινή Τασούλα, Γεωπόνος Msc, υποψ. Διδάκτωρ Γεωπονικού Παν/μιου Αθηνών, ιδρυτικό μέλος του ΟΠΣΑ
          	
 Η παρουσία σας θα  μας δώσει ιδιαίτερη χαρά.  			Η είσοδος είναι ελεύθερη                                          

ΓΙΑ ΤΗΝ ΕΝΩΣΗ ΚΑΛΛΙΤΕΧΝΩΝ 					     ΓΙΑ ΤΟΝ ΟΠΣΑ
ΚΑΙ ΛΟΓΟΤΕΧΝΩΝ ΗΛΙΟΥΠΟΛΗΣ					      Ο ΠΡΟΕΔΡΟΣ
         Ο ΠΡΟΕΔΡΟΣ							ΘΕΟΔΩΡΟΣ ΓΕΩΡΓΑΚΗΣ
  ΣΤΕΛΙΟΣ ΜΑΡΟΥΛΗΣ				

LOCATION:
END:VEVENT

END:VCALENDAR
