BEGIN:VCALENDAR
VERSION:2.0
PRODID:-//hacksw/handcal//NONSGML v1.0//EN
BEGIN:VEVENT
UID:e18a05b87e87c21698cc12099beb06ff
DTSTAMP:20260420T180411Z

DTSTART:20180516T190000
DTEND:20180516T190000
SUMMARY:ΚΛΕΙΣΘΕΝΗΣ Ι
DESCRIPTION:Η Δημοτική Κίνηση "ΗΛΙΟΥ-πόλις, ανθρώπινη πόλη"
σας προσκαλεί στην ανοικτή πολιτική εκδήλωση-συζήτηση, με θέμα :

ΚΛΕΙΣΘΕΝΗΣ Ι
Πρώτα βήματα εκδημοκρατισμού
της Αυτοδιοίκησης

Ομιλητής
Κ. ΠΟΥΛΑΚΗΣ
ΓΓ Υπ. Εσωτερικών

Τετάρτη 16 Μάη
Ωρα 7 μμ

Δημοτικό Αλσος "Δημήτρης Κιντής" - Ηλιούπολη
Μνησικλέους & Υδρας 2

LOCATION:
END:VEVENT

END:VCALENDAR
