BEGIN:VCALENDAR
VERSION:2.0
PRODID:-//hacksw/handcal//NONSGML v1.0//EN
BEGIN:VEVENT
UID:6c6e82e285a6cc9457291b9dbc8a2ba2
DTSTAMP:20260420T180952Z

DTSTART:20180504T183000
DTEND:20180504T183000
SUMMARY:Η Δημοκρατία στο Σχολείο
DESCRIPTION:Πρόσκληση

Η Ενωση Συλλόγων Γονέων & Κηδεμόνων Ηλιούπολης
σας καλεί στην εκδήλωση-συζήτηση με θέμα :

η Δημοκρατία στο Σχολείο
ευθύνες Εκπαιδευτικών-Μαθητών-Γονέων

Ομιλητής
Γεώργιος Μόσχος
πρ. Συνήγορος του Παιδιού

Σάββατο 5 Μαϊου, 6:30 μμ

Δημοτικό Αλσος "Δημήτρης Κιντής"
(Μνησικλέους & Υδρας 2 Ηλιούπολη)


LOCATION:
END:VEVENT

END:VCALENDAR
