BEGIN:VCALENDAR
VERSION:2.0
PRODID:-//hacksw/handcal//NONSGML v1.0//EN
BEGIN:VEVENT
UID:3d212beb8473098c94a23999b15e7c46
DTSTAMP:20260420T181438Z

DTSTART:20180421T193000
DTEND:20180421T193000
SUMMARY:ΠΑΡΟΥΣΙΑΣΗ ΤΟΥ ΑΠΟΡΡΗΤΟΥ ΦΑΚΕΛΟΥ ΤΗΣ ΑΣΦΑΛΕΙΑΣ  ΓΙΑ ΤΟΝ ΓΡΗΓΟΡΗ ΛΑΜΠΡΑΚΗ 
DESCRIPTION:Ο Δήμος Ηλιούπολης διοργανώνει σε συνεργασία με το Ίδρυμα «Γρηγόρης Λαμπράκης» και την «Φωτογραφική Λέσχη Ηλιούπολης» εκδήλωση για την «Παρουσίαση του Απόρρητου Φακέλου της Ασφάλειας για τον Γρηγόρη Λαμπράκη» 
Η εκδήλωση θα πραγματοποιηθεί το Σάββατο 21 Απριλίου 2018 στις 19:30 στο Εκθεσιακό Κέντρο της Ηλιούπολης (Λ. Ειρήνης 14-16) με την ευκαιρία της συμπλήρωσης 45 χρόνων από την πρώτη Πορεία Ειρήνης.
Στο χώρο του Εκθεσιακού Κέντρου θα εκτεθεί φωτογραφικό υλικό από το έργο και τη ζωή του Γρηγόρη Λαμπράκη καθώς και σημαντικές σελίδες από τον Φάκελο που αποκαλύπτεται για πρώτη φορά δημοσίως.
Στον ίδιο χώρο θα υπάρχουν και δύο αντίγραφα από τον πλήρη φάκελο της Ασφάλειας.
Για το έργο και την υπόθεση του Φακέλου του Γρηγόρη Λαμπράκη θα μιλήσουνε οι δημοσιογράφοι  Γιώργος Πετρόπουλος και Γιώργος Λιάνης και ο Γιάννης Αυγέρης, Πρόεδρος της Φωτογραφικής Λέσχης Ηλιούπολης.

LOCATION:
END:VEVENT

END:VCALENDAR
