BEGIN:VCALENDAR
VERSION:2.0
PRODID:-//hacksw/handcal//NONSGML v1.0//EN
BEGIN:VEVENT
UID:2cd3745b4a94269e432bb1377bca67a6
DTSTAMP:20260420T181119Z

DTSTART:20180415T183000
DTEND:20180416T220000
SUMMARY:Χρυσή Αυγή - M.M.E - Social Media από τις καταθέσεις μαρτύρων στα αναγνωστέα έγγραφα
DESCRIPTION:Οι Συνεργοί με την Ηλιούπολη διοργανώνουν και σας προσκαλούν στην εκδήλωση-συζήτηση, με θέμα:

Χρυσή Αυγή - M.M.E - Social Media
από τις καταθέσεις μαρτύρων στα αναγνωστέα έγγραφα

Ομιλήτριες / ομιλητές:

Ελευθερία Τομπατζόγλου, δικηγόρος της οικογένειας Παύλου Φύσσα
Ελευθερία Κουμάντου, δημοσιογράφος, παρατηρητήριο «Golden Dawn Watch»
Μελπομένη Μαραγκίδου, δημοσιογράφος, VICE
Παναγιώτης Δριμυλής, Συνεργοί με την Ηλιούπολη

Συντονίζει η Κατερίνα Λιακοπούλου, Συνεργοί με την Ηλιούπολη

Δευτέρα, 16 Απριλίου 2018, στις 6.30μμ.
Δημοτικό Άλσος Ηλιούπολης, Δ. Κιντής
(Ύδρας και Μνησικλέους)

Στις 20 Απριλίου εκδικάζεται στα δικαστήρια της Ευελπίδων η υπόθεση της επίθεσης τάγματος εφόδου της νεοναζιστικής οργάνωσης Χρυσή Αυγή στον τότε Ελεύθερο Κοινωνικό Χώρο Συνεργείο στην Ηλιούπολη.

Ανάμεσα στους 9 κατηγορούμενους χρυσαυγίτες βρίσκεται ο βουλευτής του νεοναζιστικού μορφώματος, Λαγός, καθώς και ο πρώην βουλευτής της Χρυσής Αυγής, Μίχος, οι οποίοι ηγούνταν του τάγματος εφόδου.

Είμαστε σίγουροι πως για άλλη μια φορά οι κάτοικοι της περιοχής μας θα παραβρεθούν δίπλα μας, για να μπει ένα τέλος στη δράση της νεοναζιστικής οργάνωσης.
LOCATION:
END:VEVENT

END:VCALENDAR
