BEGIN:VCALENDAR
VERSION:2.0
PRODID:-//hacksw/handcal//NONSGML v1.0//EN
BEGIN:VEVENT
UID:cebdee68745c0282fa4a922c36e5421d
DTSTAMP:20260420T180629Z

DTSTART:20180331T110000
DTEND:20180401T110000
SUMMARY:Πασχολινό Bazaar του Δικτύου Αλληλεγγύης
DESCRIPTION:Φίλοι & φίλες,

Το ΔΙΚΤΥΟ ΑΛΛΗΛΕΓΓΥΗΣ ΗΛΙΟΥ-πόλις ,
 διοργανώνει πασχαλινό bazaar το Σάββατο 31 Μαρτίου και την Κυριακή 1 Απριλίου από τις 11:00 το πρωί έως τις 8:00 το βράδυ , Ηρώς Κωνσταντοπούλου & Ηρακλείτου 1.

Στηρίζουμε τους άνεργους συμπολίτες μας , αγοράζοντας τα πασχαλινά μας δώρα, λαμπάδες , κοσμήματα, φυσικά καλλυντικά , σπιτικά γλυκά, διακοσμητικά ,από τους δημιουργούς.

Ενισχύουμε το ΔΙΚΤΥΟ ΑΛΛΗΛΕΓΓΥΗΣ ΗΛΙΟΥ-πόλις .

LOCATION:
END:VEVENT

END:VCALENDAR
