BEGIN:VCALENDAR
VERSION:2.0
PRODID:-//hacksw/handcal//NONSGML v1.0//EN
BEGIN:VEVENT
UID:ac58a97272a0f6b1cf0ca8f94d75426d
DTSTAMP:20260422T083623Z

DTSTART:20180324T190000
DTEND:20180324T190000
SUMMARY:Προβολή ταινίας "ΒΑΒΥΛΩΝΙΑ" και συζήτηση
DESCRIPTION:ΠΡΟΣΚΛΗΣΗ

Το Σάββατο 24 Μαρτίου, στις 19:00
στο Πολυμήχανο cafe teatral - Φλεμινγκ 58, Αργυρούπολη

Προβολή της ταινίας του Γ. Διζικιρίκη
ΒΑΒΥΛΩΝΙΑ (1970)

θα ακολουθήσει συζήτηση με τους :

Δημήτρης Πανταζόπουλος
Επικεφαλής ΕΝ.Α.Κ. δημοτικός σύμβουλος Ηλιούπολης

Αποστόλης Στασινόπουλος
Συνεργοί με την Ηλιούπολη

Διοργάνωση :
Συνεργοί με την Ηλιούπολη
LOCATION:
END:VEVENT

END:VCALENDAR
