BEGIN:VCALENDAR
VERSION:2.0
PRODID:-//hacksw/handcal//NONSGML v1.0//EN
BEGIN:VEVENT
UID:522a0a0a82827467a9cdae0f432d6063
DTSTAMP:20260420T180411Z

DTSTART:20180401T100000
DTEND:20180401T100000
SUMMARY:Πασχαλινό Bazaar
DESCRIPTION:Δίκτυο Κοινωνικής Αλληλεγγύης

Το ΛΑΓΟΥΜΙ

Πασχαλινό Bazaar

Κυριακή 1 Απριλίου 2018
Ωρα 10:100 - 17:00

Με κέφι και φαντασία δημιουργήσαμε

διακοσμητικά, πασχαλινά στολίδια,
αξεσουάρ, κοσμήματα, πλεκτά, ρούχα,
πολλές γλυκές και αλμυρές λιχουδιές,
προϊόντα του δικτύου

και διαλέξαμε βιβλία για όλες τις ηλικίες


LOCATION:Γκάλλι Ροβέρτου, Ηλιούπολη 163 46, Ελλάδα
END:VEVENT

END:VCALENDAR
