BEGIN:VCALENDAR
VERSION:2.0
PRODID:-//hacksw/handcal//NONSGML v1.0//EN
BEGIN:VEVENT
UID:f6388ec972fd8c08dafd4d694ed166d2
DTSTAMP:20260419T132155Z

DTSTART:20180318T200000
DTEND:20180318T200000
SUMMARY:ΠΡΟΒΟΛΗ ΤΑΙΝΙΑΣ - Ο ΜΕΓΑΛΟΣ ΠΕΡΙΠΑΤΟΣ ΤΗΣ ΑΛΚΗΣ της Μαργαρίτας Μαντά 
DESCRIPTION:Η ΚΙΝΗΜΑΤΟΓΡΑΦΙΚΗ  ΛΕΣΧΗ ΗΛΙΟΥΠΟΛΗΣ ΣΑΣ ΠΡΟΣΚΑΛΕΙ
την ΚΥΡΙΑΚΗ 18/3/2018 (8μμ) στην εκδήλωση Η ΣΥΓΓΡΑΦΕΑΣ ΑΛΚΗ ΖΕΗ –Η ΠΟΛΥΤΑΡΑΧΗ ΖΩΗ ΚΑΙ ΤΟ ΠΛΟΥΣΙΟ ΕΡΓΟ ΤΗΣ

Θα προβληθεί η ταινία

Ο ΜΕΓΑΛΟΣ ΠΕΡΙΠΑΤΟΣ ΤΗΣ ΑΛΚΗΣ
της Μαργαρίτας Μαντά (ΕΛΛΑΔΑ, 2017, έγχρωμη, 88΄)

Θα ακολουθήσει συζήτηση με εισηγήτριες τις Αλκη Ζέη (συγγραφέα) Μαργαρίτα Μαντά (σκηνοθέτιδα της ταινίας) και Στέλλα Θεοδωράκη (παραγωγό της ταινίας, σκηνοθέτιδα).Κ

ΚΥΡΙΑΚΗ 18/3 ΣΤΙΣ 8:00 μ.μ.
ΣΤΟ ΜΟΥΣΕΙΟ ΕΘΝΙΚΗΣ ΑΝΤΙΣΤΑΣΗΣ
(Μαρ. Αντύπα 134 και Σοφ. Βενιζέλου 100, Ηλιούπολη,
Τηλ.: 2109941199, 2109914732, 6945405825, E-mail: info@klh.gr,
Ιστοσελίδα: www.klh.gr)



LOCATION:
END:VEVENT

END:VCALENDAR
