BEGIN:VCALENDAR
VERSION:2.0
PRODID:-//hacksw/handcal//NONSGML v1.0//EN
BEGIN:VEVENT
UID:3468c683f703381e4bb6adb393cdcf86
DTSTAMP:20260421T021918Z

DTSTART:20180316T203000
DTEND:20180316T223000
SUMMARY:Η Ευτυχία Γιαννάκη στο Απρόβλεπτο
DESCRIPTION:Tο βιβλιοπωλείο Απρόβλεπτο και οι εκδόσεις Ίκαρος σας προσκαλούν στην παρουσίαση του δεύτερου μέρους της "Τριλογίας της Αθήνας", Αλκυονίδες μέρες ,την Παρασκευή 16 Μαρτίου στις 8:30 μ.μ.

Η Ευτυχία Γιαννάκη θα συνομιλήσει με το κοινό και θα υπογράψει αντίτυπα του βιβλίου της.

Μια νεαρή κοπέλα από την Γκάνα βρίσκεται δολοφονημένη μέσα σε μια λίμνη αίματος στο μεγαλύτερο εμπορικό κέντρο της Αθήνας. Ο Αστυνόμος Χάρης Κόκκινος και η ομάδα του θα κληθούν να εξιχνιάσουν μια υπόθεση που τυλίγεται σαν κουβάρι γύρω τους, ενώ ο χρόνος μετράει αντίστροφα. Η δίνη στην οποία θα βρεθεί ο αστυνόμος, το παρελθόν του αλλά και η σχέση με τον προφυλακισμένο γιο του θα τον αναγκάσουν να ισορροπήσει σε τεντωμένο σχοινί προκειμένου να ρίξει φως στην υπόθεση και τελικά στον ίδιο τον εαυτό του.

Σε μια κοινωνία που αδυνατεί να προστατεύσει τον αδύναμο κανείς δεν μπορεί να θεωρηθεί αθώος.

Οι "Αλκυονίδες μέρες" αποτελούν το δεύτερο μέρος της Τριλογίας της Αθήνας, με πρωταγωνιστή τον Αστυνόμο Χάρη Κόκκινο. 



Βιβλιοπωλείο Απρόβλεπτο, Ρήγα Φεραίου 25, Ηλιούπολη, τηλ. 210 99 40 110
LOCATION:Ρήγα Φεραίου 25, Ηλιούπολη 163 43, Ελλάδα
END:VEVENT

END:VCALENDAR
