BEGIN:VCALENDAR
VERSION:2.0
PRODID:-//hacksw/handcal//NONSGML v1.0//EN
BEGIN:VEVENT
UID:88f8718f43e9ed40307aff24ad6c9094
DTSTAMP:20260420T181500Z

DTSTART:20180317T183000
DTEND:20180317T183000
SUMMARY:"Σύγχρονα μοντέλα διατροφής και άσκησης για μια καλύτερη ποιότητα ζωής. Παχυσαρκία, stress, τοξική διατροφή".
DESCRIPTION:ΠΡΟΣΚΛΗΣΗ

ΟΙ "ΣΥΝΕΡΓΑΣΙΕΣ ΠΟΛΗΣ" σας προσκαλούν στη Διάλεξη που διοργανώνουν το Σάββατο 17 Μαρτίου και ώρα 6:30 μμ στο Μουσείο Εθνικής Αντίστασης της Ηλιούπολης με θέμα "Σύγχρονα Μοντέλα διατροφής και άσκησης για μια καλύτερη ποιότητα ζωής. Παχυσαρκία, stress, τοξική διατροφή". 
Συζητάμε με τους ειδικούς : Δρ. Αννα Παπαγεωργίου, κλινική διαιτολόγο και καθηγήτρια φυσικής αγωγής και Δρ. Λύτρα Αριστείδη, ενδοκρινολόγο.

Είσοδος Ελεύθερη

Οι συμμετέχοντες φορείς :
Ενωση Καλλιτεχνών και Λογοτεχνών Ηλιούπολης
K.E.E.Π.Ε.Α "Ορίζοντες"
Κινηματογραφική Λέσχη
Περιβαλλοντικός-Πολιτιστικός Ομιλος Αττικής
Π.Ο.Α.Ε.Α (Παράρτημα Ηλιούπολης)
Πολιτιστικός Μ/Φ Ομιλος ο "ΠΑΝ"
Ροταριανός Ομιλος Ηλιούπολης
Σωματείο Κερκυραίων Ηλιούπολης "Οι Φαίακες"
Σωματείο Κυριών Ηλιούπολης "Η Πρόοδος"
IlioupolisOnline Ενημερωτική και Πολιτισμική ΑΜΚΕ
LOCATION:
END:VEVENT

END:VCALENDAR
