BEGIN:VCALENDAR
VERSION:2.0
PRODID:-//hacksw/handcal//NONSGML v1.0//EN
BEGIN:VEVENT
UID:a17e583faeb40c4ef5b02dd7630f5ef0
DTSTAMP:20260421T021046Z

DTSTART:20180310T063000
DTEND:20180310T063000
SUMMARY:Τα χίλια πρόσωπα της βίας κατά των γυναικών
DESCRIPTION:Η δημοτική κίνηση «Ηλίου-πόλις ανθρώπινη πόλη» με την ευκαιρία της Ημέρας της Γυναίκας, διοργανώνει εκδήλωση –συζήτηση στις 10 Μαρτίου 2018 στις 18:30,στο Δημοτικό Άλσος «Δ. Κιντής» στην Ηλιούπολη (Μνησικλέους και Ύδρας), με θέμα:
                                  «Τα χίλια πρόσωπα της βίας κατά των γυναικών»
Προσκεκλημένες ομιλήτριες:
Η Κωνσταντίνα ΚΟΥΝΕΒΑ ευρωβουλευτής Συριζα GUE/NGL μέλος της επιτροπής Γυναικών και Ισότητας φύλων και μέλος της Επιτροπής Απασχόλησης και Κοινωνικών Υποθέσεων του Ε/Κ και η Αγγελική ΠΑΠΑΖΟΓΛΟΥ, κοινωνιολόγος, MSc, Προϊσταμένη του Τμήματος Κοινωνικής Προστασίας και Αντιμετώπισης Πολλαπλών Διακρίσεων της Γενικής Γραμματείας Ισότητας των Φύλων.



         Ενώνουμε τη φωνή και τις δυνάμεις μας για μια πιο δίκαιη κοινωνία, χωρίς κοινωνικές ανισότητες και με σεβασμό στον άνθρωπο, ανεξαρτήτως φύλου. 
          Σας καλούμε να μας τιμήσετε με την παρουσίας σας 



Ηλίου πόλις ανθρώπινη πόλη

LOCATION:
END:VEVENT

END:VCALENDAR
