BEGIN:VCALENDAR
VERSION:2.0
PRODID:-//hacksw/handcal//NONSGML v1.0//EN
BEGIN:VEVENT
UID:c50fc089a1a622baacb6b5ce9eea8bb4
DTSTAMP:20260420T202433Z

DTSTART:20180304T200000
DTEND:20180304T200000
SUMMARY:Προβολή ταινίας  ΟΔΥΣΣΕΙΕΣ ΣΩΜΑΤΩΝ – ΜΠΑΛΑΝΤΑ ΓΙΑ ΤΟΝ ΝΙΚΟ ΚΟΥΝΔΟΥΡΟ
DESCRIPTION:Η ΚΙΝΗΜΑΤΟΓΡΑΦΙΚΗ  ΛΕΣΧΗ ΗΛΙΟΥΠΟΛΗΣ ΣΑΣ ΠΡΟΣΚΑΛΕΙ
την ΚΥΡΙΑΚΗ 4/3/2018 (8μμ) 
στην εκδήλωση
 ΝΙΚΟΣ ΚΟΥΝΔΟΥΡΟΣ (1926-2017) – ΠΟΙΗΣΗ, ΠΟΛΙΤΙΚΗ, ΠΑΘΟΣ



Θα προβληθεί η ταινία

ΟΔΥΣΣΕΙΕΣ ΣΩΜΑΤΩΝ – ΜΠΑΛΑΝΤΑ ΓΙΑ ΤΟΝ ΝΙΚΟ ΚΟΥΝΔΟΥΡΟ

του Αντώνη Μποσκοΐτη (ΕΛΛΑΔΑ, 2010, έγχρωμη και ασπρόμαυρη, 82΄)

Θα ακολουθήσει συζήτηση με εισηγητές τους Αντώνη Μποσκοΐτη (σκηνοθέτη της ταινίας), Λευτέρη Ξανθόπουλο (ποιητή, σκηνοθέτη) και Καλή Καλό (ηθοποιό)

ΚΥΡΙΑΚΗ 4/3 ΣΤΙΣ 8:00 μ.μ.
ΣΤΟ ΜΟΥΣΕΙΟ ΕΘΝΙΚΗΣ ΑΝΤΙΣΤΑΣΗΣ
(Μαρ. Αντύπα 134 και Σοφ. Βενιζέλου 100, Ηλιούπολη,
Τηλ.: 2109941199, 2109914732, 6945405825, E-mail: info@klh.gr,
Ιστοσελίδα: www.klh.gr)


LOCATION:
END:VEVENT

END:VCALENDAR
