BEGIN:VCALENDAR
VERSION:2.0
PRODID:-//hacksw/handcal//NONSGML v1.0//EN
BEGIN:VEVENT
UID:68977e90b932b44b9b51ce0e3df92c15
DTSTAMP:20260421T021955Z

DTSTART:20180223T203000
DTEND:20180223T223000
SUMMARY:Ο Ανδρέας Μήτσου στο Απρόβλεπτο
DESCRIPTION:Το βιβλιοπωλείο Απρόβλεπτο και οι εκδόσεις Καστανιώτη σας προσκαλούν στην παρουσίαση του νέου βιβλίου του Ανδρέα Μήτσου "Γκαλίνα η σκοτεινή οικιακή βοηθός" την Παρασκευή 23 Φεβρουαρίου 2018 και ώρα 8:30 μ.μ.

Ο συγγραφέας θα συνομιλήσει με το κοινό και θα υπογράψει αντίτυπα του βιβλίου του

Η Γκαλίνα, μια ηλικιωμένη οικιακή βοηθός, βρίσκεται σε ερωτική σχέση με τη νεαρή κυρία της. Το νεογέννητο παιδί της συντρόφου της έρχεται να μοιραστεί την αγάπη τους. 

Η Γκαλίνα το μισεί και επιχειρεί τη φυσική του εξόντωση με τρόπο αδιανόητο.

Απρόβλεπτα εμπλέκεται στην υπόθεση περίεργος αστυνομικός της Ασφάλειας. Αυτός θα σώσει, εν τέλει, το βρέφος από τα νύχια της μοχθηρής γυναίκας και θα αποβεί ο φύλακας άγγελός του.

Για ετούτη την εμπλοκή του θα πληρώσει τίμημα ακριβό. Η εκδίκηση της οικιακής βοηθού θα του καταλύσει τη ζωή. 

Την ίδια εκδίκηση θα υποστεί και κάποιος τυχαίος μάρτυρας της υπόθεσης. Παρόμοια τιμωρία επαπειλεί όμως και κάθε άλλον ωτακουστή αυτής της ιστορίας.
LOCATION:Ρήγα Φεραίου 25, Ηλιούπολη 163 43, Ελλάδα
END:VEVENT

END:VCALENDAR
