BEGIN:VCALENDAR
VERSION:2.0
PRODID:-//hacksw/handcal//NONSGML v1.0//EN
BEGIN:VEVENT
UID:9fbd6eac08f5382691e32a8d0c2b9bcc
DTSTAMP:20260420T181256Z

DTSTART:20180302T183000
DTEND:20180302T183000
SUMMARY:Το πέρασμα από την ταφή στην καύση, χωρίς φόβους και προκαταλήψεις
DESCRIPTION:Το πέρασμα από την ταφή στην καύση
χωρίς φόβους και προκαταλήψεις

Παρασκευή 2 Μαρτίου, 6:30 μμ

Μουσείο Εθνικής Αντίστασης
Σοφ. Βενιζέλου 146 & Μαρ. Αντύπα - Ηλιούπολη

Ομιλητές :

Αννέτα Καββαδία
Βουλευτής ΣΥΡΙΖΑ
Παναγιώτης Πατσαβός
Περιφ.σύμβουλος Αττικής, Εντεταλμένος
χωρικού σχεδιασμού και πολεοδομικών θεμάτων
Ευαγγελία Δημητρίου
Κϊνηση Πολιτών Ηλιούπολης
Γιώργος Στασινόπουλος
φοιτητής Κοινωνικής Θεολογίας
Συνεργοί με την Ηλιούπολη

Συντονίζει ο Κώστας Σεφτελής
ανεξάρτητος δημοτικός σύμβουλος Ηλιούπολης

Διοργάνωση :
Συνεργοί με την Ηλιούπολη
LOCATION:
END:VEVENT

END:VCALENDAR
