BEGIN:VCALENDAR
VERSION:2.0
PRODID:-//hacksw/handcal//NONSGML v1.0//EN
BEGIN:VEVENT
UID:49b0782557da2f3673e2178f482ace2f
DTSTAMP:20260420T202449Z

DTSTART:20180225T200000
DTEND:20180225T200000
SUMMARY: Προβολή ταινίας ΜΠΛΕ ΠΟΔΗΛΑΤΟ (MAVI BISIKLET) του Ουμίτ Κόρεκεν
DESCRIPTION:Η ΚΙΝΗΜΑΤΟΓΡΑΦΙΚΗ  ΛΕΣΧΗ ΗΛΙΟΥΠΟΛΗΣ ΣΑΣ ΠΡΟΣΚΑΛΕΙ
την ΚΥΡΙΑΚΗ  25/02/2018 (8μμ) 

στην προβολή της ταινίας
ΜΠΛΕ ΠΟΔΗΛΑΤΟ (MAVI BISIKLET)
του Ουμίτ Κόρεκεν (ΤΟΥΡΚΙΑ/ΓΕΡΜΑΝΙΑ, 2016, έγχρωμη, 94΄)

Θα ακολουθήσει συζήτηση με εισηγητές τους Δημήτρη Σπύρου (Καλλιτεχνικό Διευθυντή του Διεθνούς Φεστιβάλ Κινηματογράφου Ολυμπίας για Παιδιά και Νέους, σκηνοθέτη, συγγραφέα), Νίκο Θεοδοσίου (Καλλιτεχνικό Διευθυντή του  Camera Zizanio, συγγραφέα, σκηνοθέτη) και Γιώργο Μόσχο (Συνήγορο του Πολίτη / Συνήγορο του Παιδιού).


•Βραβείο Καλύτερης Ταινίας της  Ομοσπονδίας Κινηματογραφικών Λεσχών Ελλάδας στο 19ο Διεθνές Φεστιβάλ Κινηματογράφου Ολυμπίας για Παιδιά και Νέους (2016)

•Σε συνεργασία με το Διεθνές Φεστιβάλ Κινηματογράφου Ολυμπίας για Παιδιά και Νέους και το Νεανικό Πλάνο
20 ΧΡΟΝΙΑ ΦΕΣΤΙΒΑΛ ΚΙΝΗΜΑΤΟΓΡΑΦΟΥ ΟΛΥΜΠΙΑΣ -

 20 ΧΡΟΝΙΑ ΑΔΙΑΛΕΙΠΤΗΣ ΠΟΡΕΙΑΣ ΚΑΙ ΠΡΟΣΦΟΡΑΣ 

ΣΤΟΝ ΠΟΙΟΤΙΚΟ ΚΙΝΗΜΑΤΟΓΡΑΦΟ ΓΙΑ ΠΑΙΔΙΑ ΚΑΙ ΝΕΟΥΣ

LOCATION:
END:VEVENT

END:VCALENDAR
