BEGIN:VCALENDAR
VERSION:2.0
PRODID:-//hacksw/handcal//NONSGML v1.0//EN
BEGIN:VEVENT
UID:3ff5ae7751ebe348f7e796589a349544
DTSTAMP:20260420T202436Z

DTSTART:20180211T200000
DTEND:20180211T200000
SUMMARY:Προβολή ταινίας  USSAK του Κυριάκου Κατζουράκη 
DESCRIPTION:Η Κινηματογραφική Λέσχη Ηλιούπολης σας προσκαλεί στην εκδήλωση:

Η ΕΝΝΟΙΑ ΤΗΣ ΚΟΙΝΟΤΗΤΑΣ ΚΑΙ ΤΟ ΝΟΗΜΑ ΤΗΣ ΟΥΤΟΠΙΑΣ

ΚΥΡΙΑΚΗ  11/02/2018 

USSAK
του Κυριάκου Κατζουράκη  (ΕΛΛΑΔΑ, 2017, έγχρωμη, 118΄)

Θα ακολουθήσει συζήτηση με εισηγητές τους Κυριάκο Κατζουράκη (σκηνοθέτη της ταινίας, ζωγράφο, σκηνογράφο, συγγραφέα) και Κάτια Γέρου (ηθοποιό). 
 




 ΚΙΝΗΜΑΤΟΓΡΑΦΙΚΗ ΛΕΣΧΗ ΗΛΙΟΥΠΟΛΗΣ



30 ΧΡΟΝΙΑ ΔΗΜΙΟΥΡΓΙΚΗΣ ΠΑΡΟΥΣΙΑΣ



ΣΤΟ ΜΟΥΣΕΙΟ ΕΘΝΙΚΗΣ ΑΝΤΙΣΤΑΣΗΣ



Μαρ. Αντύπα 134 και Σοφ. Βενιζέλου 100, Ηλιούπολη,



Τηλ.: 2109941199, 2109914732, 6945405825, E-mail: info@klh.gr,  site http://www.klh.gr 


LOCATION:
END:VEVENT

END:VCALENDAR
