BEGIN:VCALENDAR
VERSION:2.0
PRODID:-//hacksw/handcal//NONSGML v1.0//EN
BEGIN:VEVENT
UID:2c04f845dcdbf401ec69814e7dfa42d3
DTSTAMP:20260420T174013Z

DTSTART:20180128T200000
DTEND:20180128T200000
SUMMARY:ΤΟ ΦΕΣΤΙΒΑΛ ΔΡΑΜΑΣ ΤΑΞΙΔΕΥΕΙ ΣΤΗΝ ΗΛΙΟΥΠΟΛΗ
DESCRIPTION:
LOCATION:
END:VEVENT

END:VCALENDAR
