BEGIN:VCALENDAR
VERSION:2.0
PRODID:-//hacksw/handcal//NONSGML v1.0//EN
BEGIN:VEVENT
UID:0c8c5910b5560b9f5f32ac8bd8d4ed0a
DTSTAMP:20260420T173831Z

DTSTART:20180127T200000
DTEND:20180127T200000
SUMMARY:ΤΟ ΦΕΣΤΙΒΑΛ ΔΡΑΜΑΣ ΤΑΞΙΔΕΥΕΙ ΣΤΗΝ ΗΛΙΟΥΠΟΛΗ
DESCRIPTION:
ΣΑΒΒΑΤΟ-ΚΥΡΙΑΚΗ  27-28/01/2018
         
         ΔΙΗΜΕΡΟ ΠΡΟΒΟΛΩΝ ΤΩΝ ΒΡΑΒΕΥΜΕΝΩΝ ΤΑΙΝΙΩΝ 
         ΤΟΥ 40ού ΦΕΣΤΙΒΑΛ ΕΛΛΗΝΙΚΩΝ ΤΑΙΝΙΩΝ ΜΙΚΡΟΥ ΜΗΚΟΥΣ ΔΡΑΜΑΣ (2017, 7 + 8 ταινίες, 143΄ + 136΄)
 

Σε συνεργασία με το Φεστιβάλ Ταινιών Μικρού Μήκους Δράμας.

ΚΙΝΗΜΑΤΟΓΡΑΦΙΚΗ ΛΕΣΧΗ ΗΛΙΟΥΠΟΛΗΣ

30 ΧΡΟΝΙΑ ΔΗΜΙΟΥΡΓΙΚΗΣ ΠΑΡΟΥΣΙΑΣ

ΣΤΟ ΜΟΥΣΕΙΟ ΕΘΝΙΚΗΣ ΑΝΤΙΣΤΑΣΗΣ

(Μαρ. Αντύπα 134 και Σοφ. Βενιζέλου 100, Ηλιούπολη,

Τηλ.: 2109941199, 2109914732, 6945405825, E-mail: info@klh.gr,

Ιστοσελίδα: www.klh.gr)
LOCATION:
END:VEVENT

END:VCALENDAR
