BEGIN:VCALENDAR
VERSION:2.0
PRODID:-//hacksw/handcal//NONSGML v1.0//EN
BEGIN:VEVENT
UID:2aceab75ee49a4b75b2ead520c9a63aa
DTSTAMP:20260420T210957Z

DTSTART:20180120T100000
DTEND:20180120T100000
SUMMARY:Eπιβράβευση 62 Καλλιτεχνών 
DESCRIPTION:
LOCATION:
END:VEVENT

END:VCALENDAR
